BEGIN:VCALENDAR
VERSION:2.0
PRODID:-//Federación Colombiana de ParaAtletismo - ECPv6.15.20//NONSGML v1.0//EN
CALSCALE:GREGORIAN
METHOD:PUBLISH
X-ORIGINAL-URL:https://fecolparaatletismo.com
X-WR-CALDESC:Eventos para Federación Colombiana de ParaAtletismo
REFRESH-INTERVAL;VALUE=DURATION:PT1H
X-Robots-Tag:noindex
X-PUBLISHED-TTL:PT1H
BEGIN:VTIMEZONE
TZID:America/New_York
BEGIN:DAYLIGHT
TZOFFSETFROM:-0500
TZOFFSETTO:-0400
TZNAME:EDT
DTSTART:20240310T070000
END:DAYLIGHT
BEGIN:STANDARD
TZOFFSETFROM:-0400
TZOFFSETTO:-0500
TZNAME:EST
DTSTART:20241103T060000
END:STANDARD
BEGIN:DAYLIGHT
TZOFFSETFROM:-0500
TZOFFSETTO:-0400
TZNAME:EDT
DTSTART:20250309T070000
END:DAYLIGHT
BEGIN:STANDARD
TZOFFSETFROM:-0400
TZOFFSETTO:-0500
TZNAME:EST
DTSTART:20251102T060000
END:STANDARD
BEGIN:DAYLIGHT
TZOFFSETFROM:-0500
TZOFFSETTO:-0400
TZNAME:EDT
DTSTART:20260308T070000
END:DAYLIGHT
BEGIN:STANDARD
TZOFFSETFROM:-0400
TZOFFSETTO:-0500
TZNAME:EST
DTSTART:20261101T060000
END:STANDARD
END:VTIMEZONE
BEGIN:VEVENT
DTSTART;VALUE=DATE:20250902
DTEND;VALUE=DATE:20250908
DTSTAMP:20260424T102113
CREATED:20250805T041226Z
LAST-MODIFIED:20250828T220718Z
UID:4626-1756771200-1757289599@fecolparaatletismo.com
SUMMARY:Campeonato Nacional Interligas e Interclubes de Para Atletismo JUVENILES
DESCRIPTION:La Federación Colombiana de Para Atletismo (FECOLPARAATLETISMO) les da la bienvenida al Campeonato Nacional Interligas e Interclubes de Para Atletismo JUVENILES que se realizará en la ciudad de Armenia-Quindío desde el 2 al 7 de septiembre de 2025. \n \nEl CAMPEONATO NACIONAL INTERLIGAS E INTERCLUBES se realizará en la ciudad de Armenia-Quindío desde el 2 al 7 de septiembre del 2025\, tiene como objetivo proporcionar una competencia de gran calidad técnica\npara que los atletas nacionales tengan la posibilidad de mejorar su marca para el ciclo paralímpico; también se garantiza un espacio de clasificación funcional nacional para los deportistas. \n  \nConvocatoria Campeonato Nacional - Armenia 2 al 7 de septiembre - V2
URL:https://fecolparaatletismo.com/calendario-deportivo/campeonato-nacional-interligas-e-interclubes-de-para-atletismo-juveniles/
LOCATION:Valle del Cauca
CATEGORIES:Competencias,Eventos
ATTACH;FMTTYPE=image/jpeg:https://fecolparaatletismo.com/wp-content/uploads/2025/08/WhatsApp-Image-2025-08-28-at-17.06.38.jpeg
END:VEVENT
BEGIN:VEVENT
DTSTART;VALUE=DATE:20250910
DTEND;VALUE=DATE:20250923
DTSTAMP:20260424T102113
CREATED:20250216T020910Z
LAST-MODIFIED:20250925T183007Z
UID:4500-1757462400-1758585599@fecolparaatletismo.com
SUMMARY:Concentración de Equipo Nacional
DESCRIPTION:Concentración de Equipo Nacional Mayores previo al Mundial de Nueva Delhi 2025
URL:https://fecolparaatletismo.com/calendario-deportivo/concentracion-de-equipo-nacional/
LOCATION:Ibague\, Parque Deportivo\, Ibague\, Colombia
CATEGORIES:Eventos
ATTACH;FMTTYPE=image/jpeg:https://fecolparaatletismo.com/wp-content/uploads/2025/02/WhatsApp-Image-2025-09-20-at-17.22.14.jpeg
END:VEVENT
BEGIN:VEVENT
DTSTART;VALUE=DATE:20250926
DTEND;VALUE=DATE:20251006
DTSTAMP:20260424T102113
CREATED:20250216T021238Z
LAST-MODIFIED:20250228T161341Z
UID:4503-1758844800-1759708799@fecolparaatletismo.com
SUMMARY:Para Athletics World Championship 2025
DESCRIPTION:The Para Athletics World Championships will take place in New Delhi\, India from 26 September to 5 October 2025. \nThe venue for this edition of the Championships will be the Jawaharlal Nehru Stadium which hosted the 2010 Commonwealth Games. \nNew Delhi 2025_Qualification Criteria and Event Programme (1)
URL:https://fecolparaatletismo.com/calendario-deportivo/para-athletics-world-championship-2025/
LOCATION:Nueva Delhi\, India\, Nueva Delhi\, India
CATEGORIES:Competencias,Eventos
END:VEVENT
END:VCALENDAR