BEGIN:VCALENDAR
VERSION:2.0
PRODID:-//Federación Colombiana de ParaAtletismo - ECPv6.15.20//NONSGML v1.0//EN
CALSCALE:GREGORIAN
METHOD:PUBLISH
X-ORIGINAL-URL:https://fecolparaatletismo.com
X-WR-CALDESC:Eventos para Federación Colombiana de ParaAtletismo
REFRESH-INTERVAL;VALUE=DURATION:PT1H
X-Robots-Tag:noindex
X-PUBLISHED-TTL:PT1H
BEGIN:VTIMEZONE
TZID:America/New_York
BEGIN:DAYLIGHT
TZOFFSETFROM:-0500
TZOFFSETTO:-0400
TZNAME:EDT
DTSTART:20220313T070000
END:DAYLIGHT
BEGIN:STANDARD
TZOFFSETFROM:-0400
TZOFFSETTO:-0500
TZNAME:EST
DTSTART:20221106T060000
END:STANDARD
BEGIN:DAYLIGHT
TZOFFSETFROM:-0500
TZOFFSETTO:-0400
TZNAME:EDT
DTSTART:20230312T070000
END:DAYLIGHT
BEGIN:STANDARD
TZOFFSETFROM:-0400
TZOFFSETTO:-0500
TZNAME:EST
DTSTART:20231105T060000
END:STANDARD
BEGIN:DAYLIGHT
TZOFFSETFROM:-0500
TZOFFSETTO:-0400
TZNAME:EDT
DTSTART:20240310T070000
END:DAYLIGHT
BEGIN:STANDARD
TZOFFSETFROM:-0400
TZOFFSETTO:-0500
TZNAME:EST
DTSTART:20241103T060000
END:STANDARD
END:VTIMEZONE
BEGIN:VEVENT
DTSTART;VALUE=DATE:20230911
DTEND;VALUE=DATE:20230916
DTSTAMP:20260425T212706
CREATED:20230808T191916Z
LAST-MODIFIED:20231004T010507Z
UID:3740-1694390400-1694822399@fecolparaatletismo.com
SUMMARY:CAMPEONATO NACIONAL JUVENIL Y MENORES DE PARAATLETISMO
DESCRIPTION:Organiza FCPA0000Days00Hrs00Min00Sec\n  \n \nPresentación \n\nJuvenil
URL:https://fecolparaatletismo.com/calendario-deportivo/campeonato-nacional-juvenil-y-menores-de-paraatletismo/
LOCATION:Estadio Olímpico Pascual Guerrero\, Estadio Olímpico Pascual Guerrero\, Santiago de Cali\, Valle del cauca\, Colombia
CATEGORIES:Pasado
END:VEVENT
BEGIN:VEVENT
DTSTART;VALUE=DATE:20230911
DTEND;VALUE=DATE:20230918
DTSTAMP:20260425T212706
CREATED:20230721T133619Z
LAST-MODIFIED:20240201T112708Z
UID:3701-1694390400-1694995199@fecolparaatletismo.com
SUMMARY:MEETING INTERNACIONAL CALI 2023
DESCRIPTION:Organiza FCPAMEETING INTERNACIONAL CALI 20230000Days00Hrs00Min00Sec\n  \n \nProgramación \n\nProgramacion-Meeting-Cali-2023-v.1.0\n  \n\nSquatwolf – premium gym wear & workout clothes designed in dubai deca durabolin pros and cons inside colin kaepernick’s nfl workout: accusations\, distrust and dueling narratives\nPresentación \n\n1-Meeting-Internacional-de-ParaAtletismo-Cali-Sep-2023-1
URL:https://fecolparaatletismo.com/calendario-deportivo/meeting-internacional-cali-2023/
LOCATION:Estadio Olímpico Pascual Guerrero\, Estadio Olímpico Pascual Guerrero\, Santiago de Cali\, Valle del cauca\, Colombia
CATEGORIES:Pasado
ATTACH;FMTTYPE=image/jpeg:https://fecolparaatletismo.com/wp-content/uploads/2023/07/Banner-meeting1-scaled.jpg
END:VEVENT
END:VCALENDAR