BEGIN:VCALENDAR
VERSION:2.0
PRODID:-//Federación Colombiana de ParaAtletismo - ECPv6.15.20//NONSGML v1.0//EN
CALSCALE:GREGORIAN
METHOD:PUBLISH
X-ORIGINAL-URL:https://fecolparaatletismo.com
X-WR-CALDESC:Eventos para Federación Colombiana de ParaAtletismo
REFRESH-INTERVAL;VALUE=DURATION:PT1H
X-Robots-Tag:noindex
X-PUBLISHED-TTL:PT1H
BEGIN:VTIMEZONE
TZID:America/New_York
BEGIN:DAYLIGHT
TZOFFSETFROM:-0500
TZOFFSETTO:-0400
TZNAME:EDT
DTSTART:20240310T070000
END:DAYLIGHT
BEGIN:STANDARD
TZOFFSETFROM:-0400
TZOFFSETTO:-0500
TZNAME:EST
DTSTART:20241103T060000
END:STANDARD
BEGIN:DAYLIGHT
TZOFFSETFROM:-0500
TZOFFSETTO:-0400
TZNAME:EDT
DTSTART:20250309T070000
END:DAYLIGHT
BEGIN:STANDARD
TZOFFSETFROM:-0400
TZOFFSETTO:-0500
TZNAME:EST
DTSTART:20251102T060000
END:STANDARD
BEGIN:DAYLIGHT
TZOFFSETFROM:-0500
TZOFFSETTO:-0400
TZNAME:EDT
DTSTART:20260308T070000
END:DAYLIGHT
BEGIN:STANDARD
TZOFFSETFROM:-0400
TZOFFSETTO:-0500
TZNAME:EST
DTSTART:20261101T060000
END:STANDARD
END:VTIMEZONE
BEGIN:VEVENT
DTSTART;TZID=America/New_York:20251111T080000
DTEND;TZID=America/New_York:20251117T170000
DTSTAMP:20260424T084851
CREATED:20250925T185412Z
LAST-MODIFIED:20250926T174116Z
UID:4659-1762848000-1763398800@fecolparaatletismo.com
SUMMARY:Campeonato Nacional de Para Atletismo Mayores 2025
DESCRIPTION:Convocatoria Campeonato Nacional MAYORES - Ibague - Nov 2025-v3
URL:https://fecolparaatletismo.com/calendario-deportivo/campeonato-nacional-de-para-atletismo-mayores-2025/
LOCATION:Ibague\, Parque Deportivo\, Ibague\, Colombia
CATEGORIES:Competencias,Eventos
ATTACH;FMTTYPE=image/png:https://fecolparaatletismo.com/wp-content/uploads/2025/09/LOGO-HORIZONTAL-COLOR-scaled.png
END:VEVENT
END:VCALENDAR