BEGIN:VCALENDAR
VERSION:2.0
PRODID:-//Federación Colombiana de ParaAtletismo - ECPv6.15.20//NONSGML v1.0//EN
CALSCALE:GREGORIAN
METHOD:PUBLISH
X-ORIGINAL-URL:https://fecolparaatletismo.com
X-WR-CALDESC:Eventos para Federación Colombiana de ParaAtletismo
REFRESH-INTERVAL;VALUE=DURATION:PT1H
X-Robots-Tag:noindex
X-PUBLISHED-TTL:PT1H
BEGIN:VTIMEZONE
TZID:America/New_York
BEGIN:DAYLIGHT
TZOFFSETFROM:-0500
TZOFFSETTO:-0400
TZNAME:EDT
DTSTART:20240310T070000
END:DAYLIGHT
BEGIN:STANDARD
TZOFFSETFROM:-0400
TZOFFSETTO:-0500
TZNAME:EST
DTSTART:20241103T060000
END:STANDARD
BEGIN:DAYLIGHT
TZOFFSETFROM:-0500
TZOFFSETTO:-0400
TZNAME:EDT
DTSTART:20250309T070000
END:DAYLIGHT
BEGIN:STANDARD
TZOFFSETFROM:-0400
TZOFFSETTO:-0500
TZNAME:EST
DTSTART:20251102T060000
END:STANDARD
BEGIN:DAYLIGHT
TZOFFSETFROM:-0500
TZOFFSETTO:-0400
TZNAME:EDT
DTSTART:20260308T070000
END:DAYLIGHT
BEGIN:STANDARD
TZOFFSETFROM:-0400
TZOFFSETTO:-0500
TZNAME:EST
DTSTART:20261101T060000
END:STANDARD
END:VTIMEZONE
BEGIN:VEVENT
DTSTART;VALUE=DATE:20250613
DTEND;VALUE=DATE:20250619
DTSTAMP:20260424T161640
CREATED:20250216T014601Z
LAST-MODIFIED:20250216T014930Z
UID:4480-1749772800-1750291199@fecolparaatletismo.com
SUMMARY:Tunis 2025 WPA Grand Prix - 19th Tunis International Athletics Meeting
DESCRIPTION:Classification days: 13 – 15 June 2025 \nCompetition days:  16 – 18 June 2025
URL:https://fecolparaatletismo.com/calendario-deportivo/tunis-2025-wpa-grand-prix-19th-tunis-international-athletics-meeting/
LOCATION:Tunez\, Tunisia
CATEGORIES:Competencias
ATTACH;FMTTYPE=image/jpeg:https://fecolparaatletismo.com/wp-content/uploads/2025/02/24-TUN-Announcement-Twittercard-GPTuni.jpeg
END:VEVENT
END:VCALENDAR